BEGIN:VCALENDAR
VERSION:2.0
PRODID:-//RQMP - ECPv6.15.18//NONSGML v1.0//EN
CALSCALE:GREGORIAN
METHOD:PUBLISH
X-ORIGINAL-URL:https://rqmp.ca
X-WR-CALDESC:Évènements pour RQMP
REFRESH-INTERVAL;VALUE=DURATION:PT1H
X-Robots-Tag:noindex
X-PUBLISHED-TTL:PT1H
BEGIN:VTIMEZONE
TZID:UTC
BEGIN:STANDARD
TZOFFSETFROM:+0000
TZOFFSETTO:+0000
TZNAME:UTC
DTSTART:20240101T000000
END:STANDARD
END:VTIMEZONE
BEGIN:VEVENT
DTSTART;VALUE=DATE:20250806
DTEND;VALUE=DATE:20250809
DTSTAMP:20260414T232238
CREATED:20240416T020000Z
LAST-MODIFIED:20251016T162030Z
UID:3702-1754438400-1754697599@rqmp.ca
SUMMARY:École d'été du RQÉMP & AMA 2025
DESCRIPTION:L’école d’été\, est un évènement ouvert et accessible à toute la communauté étudiante et de recherche en science des matériaux\, du baccalauréat au post-doctorat. Cette année l‘Académie des matériaux avancés se joint à l’équipe du RQEMP pour l’organisation de l’école d’été. Ces trois jours de conférences comporteront une variété de présentations abordant les différents axes de recherche du RQMP et offrir deux formations provenant du programme de l’Académie. Nous aurons le privilèges de vous offrir des présentations offertes par des professeur.e.s du milieu académique et par des expert.e.s du milieu professionnel canadien. Il y aura aussi des activités de réseautage et une compétition pour la meilleure présentation étudiante. Ceci est la parfaite occasion de peaufiner vos aptitudes en matière de présentation tout en tentant votre chance de gagner un prix ! \nL’édition 2025 se déroulera à l’Université de Bishop’s à Sherbrooke\, du 6 au 8 Août 2025. \nLes frais d’inscriptions sont de 250$\, ce qui inclut les conférences\, les activités de réseautage\, l’aller-retour de Montréal à Sherbrooke\, l’hébergement et les repas. Un reçu et une preuve de présence seront fournis afin de permettre le remboursement par votre groupe de recherche. \nInscriptions jusqu’au 21 juin: https://forms.gle/qmHTpJf3tX7NWoHK9 \nProgramme de l’événement : À VENIR  \nMerci au comité étudiant du RQÉMP et à l’Académie des matériaux avancés pour l’organisation de l’école d’été!
URL:https://rqmp.ca/event/rqemp-ama-ecole-ete-2025/
LOCATION:Université Bishop’s\, 2600 rue du collège\, Sherbrooke\, QC\, J1M 1Z7\, Canada
CATEGORIES:Évènements passés
ATTACH;FMTTYPE=image/png:https://rqmp.ca/wp-content/uploads/2024/04/RQEMPAMA-e1741199988114.png
END:VEVENT
BEGIN:VEVENT
DTSTART;VALUE=DATE:20250825
DTEND;VALUE=DATE:20260507
DTSTAMP:20260414T232238
CREATED:20250828T214010Z
LAST-MODIFIED:20260331T183310Z
UID:5984-1756080000-1778111999@rqmp.ca
SUMMARY:Série de séminaires du RQMP 2025-2026
DESCRIPTION:Pour l’année 2025-2026\, des séries de séminaire sont organisées dans chacun des pôles\, afin de présenter une plus grande variété de sujets tout au long de l’année. \n\nLes séminaires de l’Institut Quantique et du 3IT à Sherbrooke seront organisés selon les professeurs et professeures invités\nLes séminaires du Center for the Physics of Materials (CPM) de McGill tous les jeudis à 10h30 https://www.physics.mcgill.ca/seminars/CPM.html#CPM\nLes séminaires du Groupe des Couches Minces (GCM) de Montréal sont un lundi sur deux à 9h30 (Université de Montréal campus MIL\, ou Polytechnique pavillon J.A. Bombardier)\n\n\n\n\n\n\nDate\nLieu\nSujet\nLien\n\n\n\n\njeudi 28 août  2025\, 13h30\ncampus MIL de l’Université de Montréal\, salle A-4502\nSteven Stevenson – Fullertubes: Exploring the Frontier of 0D and 1D materials\npas de rediffusion\n\n\njeudi 25 septembre 2025\, 10h30\nMcGill\, Physics Building\, Bell Conference Room\nEtienne Lantagne-Hurtubise – Rhombohedral graphene:A tunable platform for unconventional superconductivity and collective modes\nRediffusion\n\n\nlundi 3 novembre 2025\, 9h30\ncampus MIL de l’Université de Montréal\, salle B-2482\nAntoine Combrisson – Comparative microstructural modifications in silicon carbide by ion implantation\nRediffusion\n\n\nlundi 3 novembre 2025\, 9h30\ncampus MIL de l’Université de Montréal\, salle B-2482\nAntoine Combrisson – Enhancement of the growth of aligned carbon nanotubes at a medium temperature on aluminum by 1-step process\nRediffusion\n\n\njeudi 6 novembre\, 10h30\nMcGill\, Physics Building\, Bell Conference Room\nGuru Khalsa – Ultrafast symmetry control in crystalline materials with light\npas de rediffusion\n\n\nlundi 10 novembre 2025\, 9h30\nCampus MIL de l’Université de Montréal\, salle B-2482\nMassimo Granata – Couches minces de SiNx à faible bruit pour les miroirs des détecteurs d’ondes gravitationnelles\nRediffusion\n\n\nMercredi 12 novembre\, à 11h\nInstitut Quantique de l’Université de Sherbrooke (Auditorium D9)\nLev Kendrick – Pseudogap at ultralow temperatures in a Fermi-Hubbard quantum simulator\nRediffusion\n\n\nJeudi 20 novembre\, 10h30\nMcGill\, Physics Building\, BroadRoom\nStéphanie Weber – Organelles without borders: Phase separation in living cells\npas de rediffusion\n\n\nJeudi 27 novembre\, 11h\nMcGill\, Physics Building\, Bell Conference Room\nNingping Cao – Quantum Error-Corrected Non-Markovian Metrology\nPas de rediffusion\n\n\nVendredi 28\, 10h\nMcGill\, Physics Building\, Bell Conference Room\nBarry Sanders – Schrödinger cat states of a nuclear spin qudit in silicon\npas de rediffusion\n\n\nJeudi 4 décembre\, 10h30\nMcGill\, Physics Building\, Broadroom\nDominique Laroche – Charge-rectification and momentum transfer contributions to quasi-1D Coulomb drag\npas de rediffusion\n\n\nJeudi 15 janvier\, 15h30\nMcGill\, Physics Building\, Bell Conference Room\nDaniel Rhodes – Ferroelectric and High-Hydrostatic Pressure-Tuned Superconductivity in Few-Layer 1T’ MoTe_2\nRediffusion à venir\n\n\nJeudi 22 janvier\, 15h30\nMcGill\, Physics Building\, Bell Conference Room\nMadisen Holbrook – Visualizing Hidden Topology in 2D Transition Metal Dichalcogenides using Scanning Tunneling Microscopy\nRediffusion à venir\n\n\nJeudi 29 janvier\, 15h30\nMcGill\, Physics Building\, Bell Conference Room\nVictor Bar – Scanning probe microscopy of intrinsic and engineered defects in large(-ish) bandgap materials\nRediffusion à venir\n\n\nJeudi 29 janvier\, 11h\nInstitut Quantique de l’Université de Sherbrooke (Auditorium D9)\nNadine Meyer – On-Chip Hybrid Potentials: A Toolbox for Motion Control of Levitated Nanomechanical Systems\nPas  de rediffusion\n\n\nJeudi 5 février\, 15h30\nMcGill\, Physics Building\, Bell Conference Room\nWilliam Witczak-Krempa – Multiparty entanglement: from quantum spin liquids to measurement-induced transitions\nRediffusion à venir\n\n\nJeudi 12 février\, 15h30\nMcGill\, Physics Building\, Bell Conference Room\nDmitri Feldman – Topological heat transport\nPas de  rediffusion\n\n\nJeudi 19 février\, 15h30\nMcGill\, Physics Building\, Bell Conference Room\nGabriel Éthier-Majcher – Controlling solid-state qubits for quantum technologies\nPas de  rediffusion\n\n\nJeudi 26 février\, 15h30\nMcGill\, Physics Building\, Bell Conference Room\nNiri Govind – Theoretical Explorations in Ultrafast Dynamics and X-ray Spectroscopies\nEnregistrement sur demande\n\n\nJeudi 12 mars\, 15h30\nMcGill\, Physics Building\, Bell Conference Room\nDavid Hsieh – Optical engineering of quantum materials\nPas de rediffusion\n\n\nJeudi 26 mars\, 14h30\nMcGill\, Physics Building\, Bell Conference Room\nArmin Rahmani – Probing Topological Quantum Systems Using Digital Quantum Computers\nRediffusion à venir\n\n\nLundi 30 mars\, 9h30\nPolytechnique Montréal\, Pavillon Lassonde (salle M-2107)\nAndrew Musser – Embrace the darkness : From singlet fission to exciton-polaritons\nRediffusion à venir\n\n\nJeudi 2 avril\, 15h30\nMcGill\, Physics Building\, Bell Conference Room\nSami Mitra – Changing Landscape of Science Dissemination\nLien Zoom
URL:https://rqmp.ca/event/serie-de-seminaires-du-rqmp-2025-2026/
LOCATION:en mode hybride
CATEGORIES:Conférences / Ateliers
ATTACH;FMTTYPE=image/jpeg:https://rqmp.ca/wp-content/uploads/2022/05/RQMP-mai-2017-07.jpg
END:VEVENT
END:VCALENDAR